Index of /checkResults/release/data-experiment-LATEST/hapmap100kxba/raw-results
Name
Last modified
Size
Description
Parent Directory
-
info.dcf
12-Jul-2024 03:51
299
nebbiolo1/
12-Jul-2024 03:51
-