Back to Build/check report for BioC 3.12 experimental data
ABCDEF[G]HIJKLMNOPQRSTUVWXYZ

Build/check report for BioC 3.12 experimental data

All results for package geuvStore2

This page was generated on 2021-04-15 14:08:14 -0400 (Thu, 15 Apr 2021).

Package 145/398HostnameOS / ArchINSTALLBUILDCHECK
geuvStore2 1.20.0  (landing page)
VJ Carey
Snapshot Date: 2021-04-15 09:00:14 -0400 (Thu, 15 Apr 2021)
URL: https://git.bioconductor.org/packages/geuvStore2
Branch: RELEASE_3_12
Last Commit: 12dd483
Last Changed Date: 2020-10-27 10:15:49 -0400 (Tue, 27 Oct 2020)
malbec1Linux (Ubuntu 18.04.5 LTS) / x86_64  ERROR    ERROR  skipped