Back to Multiple platform build/check report for BioC 3.12 experimental data
ABCDEF[G]HIJKLMNOPQRSTUVWXYZ

INSTALL report for geneLenDataBase on malbec1

This page was generated on 2021-01-14 14:10:22 -0500 (Thu, 14 Jan 2021).

TO THE DEVELOPERS/MAINTAINERS OF THE geneLenDataBase PACKAGE: Please make sure to use the following settings in order to reproduce any error or warning you see on this page.
Package 141/398HostnameOS / ArchINSTALLBUILDCHECK
geneLenDataBase 1.26.0
Matthew Young , Nadia Davidson
Snapshot Date: 2021-01-14 09:00:17 -0500 (Thu, 14 Jan 2021)
URL: https://git.bioconductor.org/packages/geneLenDataBase
Branch: RELEASE_3_12
Last Commit: 2724715
Last Changed Date: 2020-10-27 09:51:48 -0500 (Tue, 27 Oct 2020)
malbec1 Linux (Ubuntu 18.04.5 LTS) / x86_64 [ OK ] OK  WARNINGS UNNEEDED, same version exists in internal repository
nebbiolo1 Linux (Ubuntu 20.04.1 LTS) / x86_64  OK  OK  WARNINGS 

Summary

Package: geneLenDataBase
Version: 1.26.0
Command: /home/biocbuild/bbs-3.12-bioc/R/bin/R CMD INSTALL geneLenDataBase
StartedAt: 2021-01-14 10:05:56 -0500 (Thu, 14 Jan 2021)
EndedAt: 2021-01-14 10:07:42 -0500 (Thu, 14 Jan 2021)
EllapsedTime: 105.4 seconds
RetCode: 0
Status:  OK 

Command output

##############################################################################
##############################################################################
###
### Running command:
###
###   /home/biocbuild/bbs-3.12-bioc/R/bin/R CMD INSTALL geneLenDataBase
###
##############################################################################
##############################################################################


* installing to library ‘/home/biocbuild/bbs-3.12-bioc/R/library’
* installing *source* package ‘geneLenDataBase’ ...
** using staged installation
** R
** data
** byte-compile and prepare package for lazy loading
** help
*** installing help indices
** building package indices
** testing if installed package can be loaded from temporary location
** testing if installed package can be loaded from final location
** testing if installed package keeps a record of temporary installation path
* DONE (geneLenDataBase)