Index of /checkResults/release/data-experiment-LATEST/fourDNData/raw-results/nebbiolo1

[ICO]NameLast modifiedSizeDescription

[DIR]Parent Directory  -  
[   ]install-summary.dcf17-Jul-2024 03:51 264  
[   ]buildsrc-summary.dcf17-Jul-2024 03:51 424  
[   ]checksrc-summary.dcf17-Jul-2024 03:51 424  
[TXT]buildsrc-out.txt17-Jul-2024 03:51 857  
[TXT]install-out.txt17-Jul-2024 03:51 961  
[TXT]checksrc-out.txt17-Jul-2024 03:51 3.2K