Back to Multiple platform build/check report for BioC 3.12 experimental data
ABCDE[F]GHIJKLMNOPQRSTUVWXYZ

INSTALL report for flowWorkspaceData on malbec1

This page was generated on 2021-03-01 14:09:58 -0500 (Mon, 01 Mar 2021).

To the developers/maintainers of the flowWorkspaceData package:
Please make sure to use the following settings in order to reproduce any error or warning you see on this page.
Package 133/398HostnameOS / ArchINSTALLBUILDCHECK
flowWorkspaceData 3.2.0
Mike Jiang
Snapshot Date: 2021-03-01 09:00:10 -0500 (Mon, 01 Mar 2021)
URL: https://git.bioconductor.org/packages/flowWorkspaceData
Branch: RELEASE_3_12
Last Commit: 1722110
Last Changed Date: 2020-10-27 09:53:07 -0500 (Tue, 27 Oct 2020)
malbec1Linux (Ubuntu 18.04.5 LTS) / x86_64  OK    OK    OK  UNNEEDED, same version exists in internal repository
nebbiolo1Linux (Ubuntu 20.04.2 LTS) / x86_64  OK    OK    NA  

Summary

Package: flowWorkspaceData
Version: 3.2.0
Command: /home/biocbuild/bbs-3.12-bioc/R/bin/R CMD INSTALL flowWorkspaceData
StartedAt: 2021-03-01 09:57:02 -0500 (Mon, 01 Mar 2021)
EndedAt: 2021-03-01 09:57:09 -0500 (Mon, 01 Mar 2021)
EllapsedTime: 7.1 seconds
RetCode: 0
Status:   OK  

Command output

##############################################################################
##############################################################################
###
### Running command:
###
###   /home/biocbuild/bbs-3.12-bioc/R/bin/R CMD INSTALL flowWorkspaceData
###
##############################################################################
##############################################################################


* installing to library ‘/home/biocbuild/bbs-3.12-bioc/R/library’
* installing *source* package ‘flowWorkspaceData’ ...
** using staged installation
** R
** inst
** byte-compile and prepare package for lazy loading
** help
*** installing help indices
** building package indices
** testing if installed package can be loaded from temporary location
** testing if installed package can be loaded from final location
** testing if installed package keeps a record of temporary installation path
* DONE (flowWorkspaceData)