Back to Multiple platform build/check report for BioC 3.12 experimental data
ABCDE[F]GHIJKLMNOPQRSTUVWXYZ

BUILD report for flowWorkspaceData on malbec1

This page was generated on 2021-03-01 14:09:58 -0500 (Mon, 01 Mar 2021).

To the developers/maintainers of the flowWorkspaceData package:
Please make sure to use the following settings in order to reproduce any error or warning you see on this page.
Package 133/398HostnameOS / ArchINSTALLBUILDCHECK
flowWorkspaceData 3.2.0
Mike Jiang
Snapshot Date: 2021-03-01 09:00:10 -0500 (Mon, 01 Mar 2021)
URL: https://git.bioconductor.org/packages/flowWorkspaceData
Branch: RELEASE_3_12
Last Commit: 1722110
Last Changed Date: 2020-10-27 09:53:07 -0500 (Tue, 27 Oct 2020)
malbec1Linux (Ubuntu 18.04.5 LTS) / x86_64  OK    OK    OK  UNNEEDED, same version exists in internal repository
nebbiolo1Linux (Ubuntu 20.04.2 LTS) / x86_64  OK    OK    NA  

Summary

Package: flowWorkspaceData
Version: 3.2.0
Command: /home/biocbuild/bbs-3.12-bioc/R/bin/R CMD build --keep-empty-dirs --no-resave-data flowWorkspaceData
StartedAt: 2021-03-01 10:50:04 -0500 (Mon, 01 Mar 2021)
EndedAt: 2021-03-01 10:50:24 -0500 (Mon, 01 Mar 2021)
EllapsedTime: 20.3 seconds
RetCode: 0
Status:   OK  
PackageFile: flowWorkspaceData_3.2.0.tar.gz
PackageFileSize: 71.15 MiB

Command output

##############################################################################
##############################################################################
###
### Running command:
###
###   /home/biocbuild/bbs-3.12-bioc/R/bin/R CMD build --keep-empty-dirs --no-resave-data flowWorkspaceData
###
##############################################################################
##############################################################################


* checking for file ‘flowWorkspaceData/DESCRIPTION’ ... OK
* preparing ‘flowWorkspaceData’:
* checking DESCRIPTION meta-information ... OK
* checking for LF line-endings in source and make files and shell scripts
* checking for empty or unneeded directories
* building ‘flowWorkspaceData_3.2.0.tar.gz’