Back to Build/check report for BioC 3.16 experimental data
ABCDE[F]GHIJKLMNOPQRSTUVWXYZ

This page was generated on 2023-03-16 14:50:24 -0400 (Thu, 16 Mar 2023).

HostnameOSArch (*)R versionInstalled pkgs
nebbiolo2Linux (Ubuntu 20.04.5 LTS)x86_644.2.2 (2022-10-31) -- "Innocent and Trusting" 4515
Click on any hostname to see more info about the system (e.g. compilers)      (*) as reported by 'uname -p', except on Windows and Mac OS X

All results for package flowWorkspaceData


To the developers/maintainers of the flowWorkspaceData package:
Make sure to use the following settings in order to reproduce any error or warning you see on this page.

raw results

Package 134/416HostnameOS / ArchINSTALLBUILDCHECK
flowWorkspaceData 3.10.0  (landing page)
Mike Jiang
Snapshot Date: 2023-03-16 07:30:01 -0400 (Thu, 16 Mar 2023)
git_url: https://git.bioconductor.org/packages/flowWorkspaceData
git_branch: RELEASE_3_16
git_last_commit: 36f5e80
git_last_commit_date: 2022-11-01 10:46:58 -0400 (Tue, 01 Nov 2022)
nebbiolo2Linux (Ubuntu 20.04.5 LTS) / x86_64  OK    OK    OK  UNNEEDED, same version is already published