Back to Build/check report for BioC 3.13 experimental data
ABCDE[F]GHIJKLMNOPQRSTUVWXYZ

This page was generated on 2021-10-12 16:00:30 -0400 (Tue, 12 Oct 2021).

All results for package faahKO

To the developers/maintainers of the faahKO package:
Make sure to use the following settings in order to reproduce any error or warning you see on this page.

raw results

Package 119/406HostnameOS / ArchINSTALLBUILDCHECK
faahKO 1.32.0  (landing page)
Steffen Neumann
Snapshot Date: 2021-10-12 09:30:07 -0400 (Tue, 12 Oct 2021)
URL: https://git.bioconductor.org/packages/faahKO
Branch: RELEASE_3_13
Last Commit: 0eb0fb1
Last Changed Date: 2021-05-19 11:24:24 -0400 (Wed, 19 May 2021)
malbec2Linux (Ubuntu 20.04.2 LTS) / x86_64  OK    OK    OK  UNNEEDED, same version is already published