Index of /checkResults/release/data-experiment-LATEST/diffloopdata/raw-results/nebbiolo1

[ICO]NameLast modifiedSizeDescription

[DIR]Parent Directory  -  
[   ]install-summary.dcf19-Jul-2024 03:51 268  
[   ]buildsrc-summary.dcf19-Jul-2024 03:51 432  
[   ]checksrc-summary.dcf19-Jul-2024 03:51 433  
[TXT]buildsrc-out.txt19-Jul-2024 03:51 866  
[TXT]install-out.txt19-Jul-2024 03:51 960  
[TXT]checksrc-out.txt19-Jul-2024 03:51 2.6K