Index of /checkResults/release/data-experiment-LATEST/diffloopdata/raw-results

[ICO]NameLast modifiedSizeDescription

[DIR]Parent Directory  -  
[   ]info.dcf21-Jun-2024 03:51 286  
[DIR]nebbiolo1/21-Jun-2024 03:51 -