Back to Build/check report for BioC 3.13 experimental data
AB[C]DEFGHIJKLMNOPQRSTUVWXYZ

This page was generated on 2021-09-16 16:00:01 -0400 (Thu, 16 Sep 2021).

All results for package curatedTCGAData

To the developers/maintainers of the curatedTCGAData package:
Make sure to use the following settings in order to reproduce any error or warning you see on this page.

raw results

Package 89/406HostnameOS / ArchINSTALLBUILDCHECK
curatedTCGAData 1.14.0  (landing page)
Marcel Ramos
Snapshot Date: 2021-09-16 09:30:04 -0400 (Thu, 16 Sep 2021)
URL: https://git.bioconductor.org/packages/curatedTCGAData
Branch: RELEASE_3_13
Last Commit: f2d8bd3
Last Changed Date: 2021-05-19 12:02:29 -0400 (Wed, 19 May 2021)
malbec2Linux (Ubuntu 20.04.2 LTS) / x86_64  OK    OK    OK  UNNEEDED, same version is already published