Back to Build/check report for BioC 3.16 experimental data |
|
This page was generated on 2023-02-02 14:50:28 -0500 (Thu, 02 Feb 2023).
Hostname | OS | Arch (*) | R version | Installed pkgs |
---|---|---|---|---|
nebbiolo2 | Linux (Ubuntu 20.04.5 LTS) | x86_64 | 4.2.2 (2022-10-31) -- "Innocent and Trusting" | 4510 |
Click on any hostname to see more info about the system (e.g. compilers) (*) as reported by 'uname -p', except on Windows and Mac OS X |
To the developers/maintainers of the curatedTBData package: Make sure to use the following settings in order to reproduce any error or warning you see on this page. |
Package 85/416 | Hostname | OS / Arch | INSTALL | BUILD | CHECK | ||||||||
curatedTBData 1.4.0 (landing page) Xutao Wang
| nebbiolo2 | Linux (Ubuntu 20.04.5 LTS) / x86_64 | OK | OK | OK | ![]() | |||||||