Back to Build/check report for BioC 3.16 experimental data
AB[C]DEFGHIJKLMNOPQRSTUVWXYZ

This page was generated on 2022-12-01 14:50:28 -0500 (Thu, 01 Dec 2022).

HostnameOSArch (*)R versionInstalled pkgs
nebbiolo2Linux (Ubuntu 20.04.5 LTS)x86_644.2.2 (2022-10-31) -- "Innocent and Trusting" 4502
Click on any hostname to see more info about the system (e.g. compilers)      (*) as reported by 'uname -p', except on Windows and Mac OS X

All results for package curatedMetagenomicData


To the developers/maintainers of the curatedMetagenomicData package:
Make sure to use the following settings in order to reproduce any error or warning you see on this page.

raw results

Package 83/416HostnameOS / ArchINSTALLBUILDCHECK
curatedMetagenomicData 3.6.0  (landing page)
Lucas schiffer
Snapshot Date: 2022-12-01 07:30:01 -0500 (Thu, 01 Dec 2022)
git_url: https://git.bioconductor.org/packages/curatedMetagenomicData
git_branch: RELEASE_3_16
git_last_commit: b535c9d
git_last_commit_date: 2022-11-03 12:26:28 -0500 (Thu, 03 Nov 2022)
nebbiolo2Linux (Ubuntu 20.04.5 LTS) / x86_64  OK    OK    OK  UNNEEDED, same version is already published