Name | Last modified | Size | Description | |
---|---|---|---|---|
Parent Directory | - | |||
buildsrc-out.txt | 29-Mar-2024 03:52 | 950 | ||
buildsrc-summary.dcf | 29-Mar-2024 03:52 | 450 | ||
checksrc-out.txt | 29-Mar-2024 03:52 | 3.2K | ||
checksrc-summary.dcf | 29-Mar-2024 03:52 | 457 | ||
install-out.txt | 29-Mar-2024 03:52 | 935 | ||
install-summary.dcf | 29-Mar-2024 03:52 | 280 | ||