Name | Last modified | Size | Description | |
---|---|---|---|---|
Parent Directory | - | |||
checksrc-summary.dcf | 17-Jul-2024 03:51 | 452 | ||
checksrc-out.txt | 17-Jul-2024 03:51 | 3.9K | ||
buildsrc-summary.dcf | 17-Jul-2024 03:51 | 441 | ||
buildsrc-out.txt | 17-Jul-2024 03:51 | 838 | ||
install-summary.dcf | 17-Jul-2024 03:51 | 275 | ||
install-out.txt | 17-Jul-2024 03:51 | 1.0K | ||