Index of /checkResults/release/data-experiment-LATEST/cnvGSAdata/raw-results
Name
Last modified
Size
Description
Parent Directory
-
info.dcf
28-Jun-2024 03:51
279
nebbiolo1/
28-Jun-2024 03:51
-