Back to Build/check report for BioC 3.16 experimental data
AB[C]DEFGHIJKLMNOPQRSTUVWXYZ

This page was generated on 2023-03-16 14:50:24 -0400 (Thu, 16 Mar 2023).

HostnameOSArch (*)R versionInstalled pkgs
nebbiolo2Linux (Ubuntu 20.04.5 LTS)x86_644.2.2 (2022-10-31) -- "Innocent and Trusting" 4515
Click on any hostname to see more info about the system (e.g. compilers)      (*) as reported by 'uname -p', except on Windows and Mac OS X

INSTALL results for chipenrich.data on nebbiolo2


To the developers/maintainers of the chipenrich.data package:
Make sure to use the following settings in order to reproduce any error or warning you see on this page.

raw results

Package 56/416HostnameOS / ArchINSTALLBUILDCHECK
chipenrich.data 2.22.0  (landing page)
Raymond G. Cavalcante
Snapshot Date: 2023-03-16 07:30:01 -0400 (Thu, 16 Mar 2023)
git_url: https://git.bioconductor.org/packages/chipenrich.data
git_branch: RELEASE_3_16
git_last_commit: d33ccd1
git_last_commit_date: 2022-11-01 10:57:51 -0400 (Tue, 01 Nov 2022)
nebbiolo2Linux (Ubuntu 20.04.5 LTS) / x86_64  OK    OK    WARNINGS  UNNEEDED, same version is already published

Summary

Package: chipenrich.data
Version: 2.22.0
Command: /home/biocbuild/bbs-3.16-bioc/R/bin/R CMD INSTALL chipenrich.data
StartedAt: 2023-03-16 10:05:12 -0400 (Thu, 16 Mar 2023)
EndedAt: 2023-03-16 10:07:56 -0400 (Thu, 16 Mar 2023)
EllapsedTime: 164.4 seconds
RetCode: 0
Status:   OK  

Command output

##############################################################################
##############################################################################
###
### Running command:
###
###   /home/biocbuild/bbs-3.16-bioc/R/bin/R CMD INSTALL chipenrich.data
###
##############################################################################
##############################################################################


* installing to library ‘/home/biocbuild/bbs-3.16-bioc/R/library’
* installing *source* package ‘chipenrich.data’ ...
** using staged installation
** R
** data
*** moving datasets to lazyload DB
Warning: objects ‘gene.enh.desc’, ‘gene.enh.desc’ are created by more than one data call
** inst
** byte-compile and prepare package for lazy loading
** help
*** installing help indices
** building package indices
** installing vignettes
** testing if installed package can be loaded from temporary location
** testing if installed package can be loaded from final location
** testing if installed package keeps a record of temporary installation path
* DONE (chipenrich.data)