Back to Multiple platform build/check report for BioC 3.12 experimental data
AB[C]DEFGHIJKLMNOPQRSTUVWXYZ

INSTALL report for cgdv17 on nebbiolo1

This page was generated on 2021-01-14 14:10:30 -0500 (Thu, 14 Jan 2021).

TO THE DEVELOPERS/MAINTAINERS OF THE cgdv17 PACKAGE: Please make sure to use the following settings in order to reproduce any error or warning you see on this page.
Package 55/398HostnameOS / ArchINSTALLBUILDCHECK
cgdv17 0.28.0
VJ Carey
Snapshot Date: 2021-01-14 09:00:17 -0500 (Thu, 14 Jan 2021)
URL: https://git.bioconductor.org/packages/cgdv17
Branch: RELEASE_3_12
Last Commit: 60af2c9
Last Changed Date: 2020-10-27 09:54:48 -0500 (Tue, 27 Oct 2020)
malbec1 Linux (Ubuntu 18.04.5 LTS) / x86_64  OK  OK  OK UNNEEDED, same version exists in internal repository
nebbiolo1 Linux (Ubuntu 20.04.1 LTS) / x86_64 [ OK ] OK  OK 

Summary

Package: cgdv17
Version: 0.28.0
Command: /home/biocbuild/bbs-3.12-bioc/R/bin/R CMD INSTALL cgdv17
StartedAt: 2021-01-14 10:07:11 -0500 (Thu, 14 Jan 2021)
EndedAt: 2021-01-14 10:07:49 -0500 (Thu, 14 Jan 2021)
EllapsedTime: 37.6 seconds
RetCode: 0
Status:  OK 

Command output

##############################################################################
##############################################################################
###
### Running command:
###
###   /home/biocbuild/bbs-3.12-bioc/R/bin/R CMD INSTALL cgdv17
###
##############################################################################
##############################################################################


* installing to library ‘/home/biocbuild/bbs-3.12-bioc/R/library’
* installing *source* package ‘cgdv17’ ...
** using staged installation
** R
** data
** inst
** byte-compile and prepare package for lazy loading
** help
*** installing help indices
** building package indices
** installing vignettes
** testing if installed package can be loaded from temporary location
** testing if installed package can be loaded from final location
** testing if installed package keeps a record of temporary installation path
* DONE (cgdv17)