Back to Multiple platform build/check report for BioC 3.12 experimental data |
|
This page was generated on 2021-01-14 14:10:18 -0500 (Thu, 14 Jan 2021).
TO THE DEVELOPERS/MAINTAINERS OF THE cgdv17 PACKAGE: Please make sure to use the following settings in order to reproduce any error or warning you see on this page. |
Package 55/398 | Hostname | OS / Arch | INSTALL | BUILD | CHECK | ||||||
cgdv17 0.28.0 VJ Carey
| malbec1 | Linux (Ubuntu 18.04.5 LTS) / x86_64 | OK | [ OK ] | OK | ![]() | |||||
nebbiolo1 | Linux (Ubuntu 20.04.1 LTS) / x86_64 | OK | OK | OK |
Package: cgdv17 |
Version: 0.28.0 |
Command: /home/biocbuild/bbs-3.12-bioc/R/bin/R CMD build --keep-empty-dirs --no-resave-data cgdv17 |
StartedAt: 2021-01-14 10:31:08 -0500 (Thu, 14 Jan 2021) |
EndedAt: 2021-01-14 10:33:25 -0500 (Thu, 14 Jan 2021) |
EllapsedTime: 137.4 seconds |
RetCode: 0 |
Status: OK |
PackageFile: cgdv17_0.28.0.tar.gz |
PackageFileSize: 219.5 MiB |
############################################################################## ############################################################################## ### ### Running command: ### ### /home/biocbuild/bbs-3.12-bioc/R/bin/R CMD build --keep-empty-dirs --no-resave-data cgdv17 ### ############################################################################## ############################################################################## * checking for file ‘cgdv17/DESCRIPTION’ ... OK * preparing ‘cgdv17’: * checking DESCRIPTION meta-information ... OK * installing the package to build vignettes * creating vignettes ... OK * checking for LF line-endings in source and make files and shell scripts * checking for empty or unneeded directories * looking to see if a ‘data/datalist’ file should be added * building ‘cgdv17_0.28.0.tar.gz’