Back to Multiple platform build/check report for BioC 3.12 experimental data
AB[C]DEFGHIJKLMNOPQRSTUVWXYZ

Multiple platform build/check report for BioC 3.12 experimental data

Results for cgdv17

This page was generated on 2020-11-23 14:10:05 -0500 (Mon, 23 Nov 2020).

Package 55/398HostnameOS / ArchINSTALLBUILDCHECK
cgdv17 0.28.0
VJ Carey
Snapshot Date: 2020-11-23 09:00:13 -0500 (Mon, 23 Nov 2020)
URL: https://git.bioconductor.org/packages/cgdv17
Branch: RELEASE_3_12
Last Commit: 60af2c9
Last Changed Date: 2020-10-27 09:54:48 -0500 (Tue, 27 Oct 2020)
malbec1 Linux (Ubuntu 18.04.4 LTS) / x86_64  OK  OK  OK UNNEEDED, same version exists in internal repository
nebbiolo1 Linux (Ubuntu 20.04.1 LTS) / x86_64  OK  OK  OK