Back to Multiple platform build/check report for BioC 3.12 experimental data |
|
This page was generated on 2021-01-14 14:10:30 -0500 (Thu, 14 Jan 2021).
TO THE DEVELOPERS/MAINTAINERS OF THE ceu1kg PACKAGE: Please make sure to use the following settings in order to reproduce any error or warning you see on this page. |
Package 52/398 | Hostname | OS / Arch | INSTALL | BUILD | CHECK | ||||||
ceu1kg 0.28.0 VJ Carey
| malbec1 | Linux (Ubuntu 18.04.5 LTS) / x86_64 | OK | OK | WARNINGS | ![]() | |||||
nebbiolo1 | Linux (Ubuntu 20.04.1 LTS) / x86_64 | OK | [ OK ] | WARNINGS |
Package: ceu1kg |
Version: 0.28.0 |
Command: /home/biocbuild/bbs-3.12-bioc/R/bin/R CMD build --keep-empty-dirs --no-resave-data ceu1kg |
StartedAt: 2021-01-14 10:14:28 -0500 (Thu, 14 Jan 2021) |
EndedAt: 2021-01-14 10:15:30 -0500 (Thu, 14 Jan 2021) |
EllapsedTime: 62.2 seconds |
RetCode: 0 |
Status: OK |
PackageFile: ceu1kg_0.28.0.tar.gz |
PackageFileSize: 80 MiB |
############################################################################## ############################################################################## ### ### Running command: ### ### /home/biocbuild/bbs-3.12-bioc/R/bin/R CMD build --keep-empty-dirs --no-resave-data ceu1kg ### ############################################################################## ############################################################################## * checking for file ‘ceu1kg/DESCRIPTION’ ... OK * preparing ‘ceu1kg’: * checking DESCRIPTION meta-information ... OK * installing the package to build vignettes * creating vignettes ... OK * checking for LF line-endings in source and make files and shell scripts * checking for empty or unneeded directories * looking to see if a ‘data/datalist’ file should be added * building ‘ceu1kg_0.28.0.tar.gz’