Back to Multiple platform build/check report for BioC 3.12 experimental data
AB[C]DEFGHIJKLMNOPQRSTUVWXYZ

Multiple platform build/check report for BioC 3.12 experimental data

Results for ceu1kg

This page was generated on 2020-11-26 14:09:58 -0500 (Thu, 26 Nov 2020).

Package 52/398HostnameOS / ArchINSTALLBUILDCHECK
ceu1kg 0.28.0
VJ Carey
Snapshot Date: 2020-11-26 09:00:18 -0500 (Thu, 26 Nov 2020)
URL: https://git.bioconductor.org/packages/ceu1kg
Branch: RELEASE_3_12
Last Commit: baecf9f
Last Changed Date: 2020-10-27 09:52:08 -0500 (Tue, 27 Oct 2020)
malbec1 Linux (Ubuntu 18.04.4 LTS) / x86_64  OK  OK  WARNINGS UNNEEDED, same version exists in internal repository
nebbiolo1 Linux (Ubuntu 20.04.1 LTS) / x86_64  OK  OK  WARNINGS