Back to Build/check report for BioC 3.14 experimental data
AB[C]DEFGHIJKLMNOPQRSTUVWXYZ

This page was generated on 2022-01-19 14:50:22 -0500 (Wed, 19 Jan 2022).

HostnameOSArch (*)R versionInstalled pkgs
nebbiolo2Linux (Ubuntu 20.04.4 LTS)x86_644.1.2 (2021-11-01) -- "Bird Hippie" 4329
Click on any hostname to see more info about the system (e.g. compilers)      (*) as reported by 'uname -p', except on Windows and Mac OS X

BUILD results for celldex on nebbiolo2


To the developers/maintainers of the celldex package:
Make sure to use the following settings in order to reproduce any error or warning you see on this page.

raw results

Package 52/408HostnameOS / ArchINSTALLBUILDCHECK
celldex 1.4.0  (landing page)
Aaron Lun
Snapshot Date: 2022-01-19 07:30:01 -0500 (Wed, 19 Jan 2022)
git_url: https://git.bioconductor.org/packages/celldex
git_branch: RELEASE_3_14
git_last_commit: a92404d
git_last_commit_date: 2021-10-26 12:38:41 -0500 (Tue, 26 Oct 2021)
nebbiolo2Linux (Ubuntu 20.04.4 LTS) / x86_64  OK    OK    WARNINGS  UNNEEDED, same version is already published

Summary

Package: celldex
Version: 1.4.0
Command: /home/biocbuild/bbs-3.14-bioc/R/bin/R CMD build --keep-empty-dirs --no-resave-data celldex
StartedAt: 2022-01-19 10:15:43 -0500 (Wed, 19 Jan 2022)
EndedAt: 2022-01-19 10:16:54 -0500 (Wed, 19 Jan 2022)
EllapsedTime: 71.1 seconds
RetCode: 0
Status:   OK  
PackageFile: celldex_1.4.0.tar.gz
PackageFileSize: 380.3 KiB

Command output

##############################################################################
##############################################################################
###
### Running command:
###
###   /home/biocbuild/bbs-3.14-bioc/R/bin/R CMD build --keep-empty-dirs --no-resave-data celldex
###
##############################################################################
##############################################################################


* checking for file ‘celldex/DESCRIPTION’ ... OK
* preparing ‘celldex’:
* checking DESCRIPTION meta-information ... OK
* installing the package to build vignettes
* creating vignettes ... OK
* checking for LF line-endings in source and make files and shell scripts
* checking for empty or unneeded directories
* building ‘celldex_1.4.0.tar.gz’