Back to Build/check report for BioC 3.14 experimental data
AB[C]DEFGHIJKLMNOPQRSTUVWXYZ

This page was generated on 2021-12-01 18:35:24 -0500 (Wed, 01 Dec 2021).

All results for package celldex

To the developers/maintainers of the celldex package:
Make sure to use the following settings in order to reproduce any error or warning you see on this page.

raw results

Package 52/408HostnameOS / ArchINSTALLBUILDCHECK
celldex 1.4.0  (landing page)
Aaron Lun
Snapshot Date: 2021-12-01 08:30:01 -0500 (Wed, 01 Dec 2021)
git_url: https://git.bioconductor.org/packages/celldex
git_branch: RELEASE_3_14
git_last_commit: a92404d
git_last_commit_date: 2021-10-26 12:38:41 -0500 (Tue, 26 Oct 2021)
nebbiolo2Linux (Ubuntu 20.04.3 LTS) / x86_64  OK    OK    WARNINGS  UNNEEDED, same version is already published