Index of /checkResults/release/data-experiment-LATEST/breakpointRdata/raw-results

[ICO]NameLast modifiedSizeDescription

[DIR]Parent Directory  -  
[   ]info.dcf01-Mar-2024 04:52 293  
[DIR]nebbiolo2/01-Mar-2024 04:52 -