Back to Build/check report for BioC 3.13 experimental data
A[B]CDEFGHIJKLMNOPQRSTUVWXYZ

This page was generated on 2021-09-16 16:00:01 -0400 (Thu, 16 Sep 2021).

All results for package biotmleData

To the developers/maintainers of the biotmleData package:
Make sure to use the following settings in order to reproduce any error or warning you see on this page.

raw results

Package 29/406HostnameOS / ArchINSTALLBUILDCHECK
biotmleData 1.16.0  (landing page)
Nima Hejazi
Snapshot Date: 2021-09-16 09:30:04 -0400 (Thu, 16 Sep 2021)
URL: https://git.bioconductor.org/packages/biotmleData
Branch: RELEASE_3_13
Last Commit: a3914be
Last Changed Date: 2021-05-19 12:00:53 -0400 (Wed, 19 May 2021)
malbec2Linux (Ubuntu 20.04.2 LTS) / x86_64  OK    OK    WARNINGS  UNNEEDED, same version is already published