Back to Build/check report for BioC 3.14 experimental data
A[B]CDEFGHIJKLMNOPQRSTUVWXYZ

This page was generated on 2021-12-01 18:35:24 -0500 (Wed, 01 Dec 2021).

All results for package beta7

To the developers/maintainers of the beta7 package:
Make sure to use the following settings in order to reproduce any error or warning you see on this page.

raw results

Package 27/408HostnameOS / ArchINSTALLBUILDCHECK
beta7 1.32.0  (landing page)
Jean Yang
Snapshot Date: 2021-12-01 08:30:01 -0500 (Wed, 01 Dec 2021)
git_url: https://git.bioconductor.org/packages/beta7
git_branch: RELEASE_3_14
git_last_commit: 548088c
git_last_commit_date: 2021-10-26 11:38:48 -0500 (Tue, 26 Oct 2021)
nebbiolo2Linux (Ubuntu 20.04.3 LTS) / x86_64  OK    OK    WARNINGS  UNNEEDED, same version is already published