Index of /checkResults/release/data-experiment-LATEST/airway/raw-results/nebbiolo2

[ICO]NameLast modifiedSizeDescription

[DIR]Parent Directory  -  
[   ]install-summary.dcf17-Feb-2022 22:36 268  
[   ]buildsrc-summary.dcf17-Feb-2022 22:36 424  
[   ]checksrc-summary.dcf17-Feb-2022 22:36 447  
[TXT]buildsrc-out.txt17-Feb-2022 22:36 876  
[TXT]install-out.txt17-Feb-2022 22:36 916  
[TXT]checksrc-out.txt17-Feb-2022 22:36 3.0K