Index of /checkResults/release/data-experiment-LATEST/airway/raw-results/nebbiolo1

[ICO]NameLast modifiedSizeDescription

[DIR]Parent Directory  -  
[   ]install-summary.dcf12-Aug-2022 03:50 256  
[   ]buildsrc-summary.dcf12-Aug-2022 03:50 413  
[   ]checksrc-summary.dcf12-Aug-2022 03:50 425  
[TXT]buildsrc-out.txt12-Aug-2022 03:50 865  
[TXT]install-out.txt12-Aug-2022 03:50 894  
[TXT]checksrc-out.txt12-Aug-2022 03:50 3.0K