Name | Last modified | Size | Description | |
---|---|---|---|---|
Parent Directory | - | |||
install-summary.dcf | 17-Jul-2024 03:51 | 260 | ||
install-out.txt | 17-Jul-2024 03:51 | 1.4K | ||
checksrc-summary.dcf | 17-Jul-2024 03:51 | 423 | ||
checksrc-out.txt | 17-Jul-2024 03:51 | 5.2K | ||
buildsrc-summary.dcf | 17-Jul-2024 03:51 | 420 | ||
buildsrc-out.txt | 17-Jul-2024 03:51 | 873 | ||