Name | Last modified | Size | Description | |
---|---|---|---|---|
Parent Directory | - | |||
install-summary.dcf | 29-Mar-2024 03:52 | 274 | ||
install-out.txt | 29-Mar-2024 03:52 | 1.0K | ||
checksrc-summary.dcf | 29-Mar-2024 03:52 | 445 | ||
checksrc-out.txt | 29-Mar-2024 03:52 | 3.7K | ||
buildsrc-summary.dcf | 29-Mar-2024 03:52 | 441 | ||
buildsrc-out.txt | 29-Mar-2024 03:52 | 838 | ||