Index of /checkResults/release/data-experiment-LATEST/TargetScoreData/raw-results/nebbiolo2

[ICO]NameLast modifiedSizeDescription

[DIR]Parent Directory  -  
[TXT]buildsrc-out.txt20-Jan-2022 04:50 838  
[   ]buildsrc-summary.dcf20-Jan-2022 04:50 441  
[TXT]checksrc-out.txt20-Jan-2022 04:50 3.5K 
[   ]checksrc-summary.dcf20-Jan-2022 04:50 455  
[TXT]install-out.txt20-Jan-2022 04:50 971  
[   ]install-summary.dcf20-Jan-2022 04:50 274