Index of /checkResults/release/data-experiment-LATEST/TargetScoreData/raw-results

[ICO]NameLast modifiedSizeDescription

[DIR]Parent Directory  -  
[   ]info.dcf20-May-2022 03:50 281  
[DIR]nebbiolo1/20-May-2022 03:50 -  
[DIR]nebbiolo2/17-Feb-2022 22:36 -