Back to Multiple platform build/check report for BioC 3.12 experimental data
ABCDEFGHIJKLMNOPQRS[T]UVWXYZ

Multiple platform build/check report for BioC 3.12 experimental data

Results for package TabulaMurisData

This page was generated on 2021-02-25 14:11:35 -0500 (Thu, 25 Feb 2021).

Package 361/398HostnameOS / ArchINSTALLBUILDCHECK
TabulaMurisData 1.8.0
Charlotte Soneson
Snapshot Date: 2021-02-25 09:00:14 -0500 (Thu, 25 Feb 2021)
URL: https://git.bioconductor.org/packages/TabulaMurisData
Branch: RELEASE_3_12
Last Commit: 03b050d
Last Changed Date: 2020-10-27 10:27:27 -0500 (Tue, 27 Oct 2020)
malbec1Linux (Ubuntu 18.04.5 LTS) / x86_64  OK    OK    OK  UNNEEDED, same version exists in internal repository
nebbiolo1Linux (Ubuntu 20.04.2 LTS) / x86_64  OK    OK    OK