Index of /checkResults/release/data-experiment-LATEST/TENxVisiumData/raw-results
Name
Last modified
Size
Description
Parent Directory
-
info.dcf
27-Mar-2024 03:51
287
nebbiolo2/
27-Mar-2024 03:51
-