Back to Build/check report for BioC 3.18 experimental data
ABCDEFGHIJKLMNOPQRS[T]UVWXYZ

This page was generated on 2024-02-29 14:52:02 -0500 (Thu, 29 Feb 2024).

HostnameOSArch (*)R versionInstalled pkgs
nebbiolo2Linux (Ubuntu 22.04.3 LTS)x86_644.3.2 Patched (2023-11-13 r85521) -- "Eye Holes" 4692
Click on any hostname to see more info about the system (e.g. compilers)      (*) as reported by 'uname -p', except on Windows and Mac OS X

Package 400/429HostnameOS / ArchINSTALLBUILDCHECK
TENxBrainData 1.22.0  (landing page)
Bioconductor Package Maintainer
Snapshot Date: 2024-02-29 07:30:02 -0500 (Thu, 29 Feb 2024)
git_url: https://git.bioconductor.org/packages/TENxBrainData
git_branch: RELEASE_3_18
git_last_commit: 2b732db
git_last_commit_date: 2023-10-24 09:17:29 -0500 (Tue, 24 Oct 2023)
nebbiolo2Linux (Ubuntu 22.04.3 LTS) / x86_64  OK    OK    OK  UNNEEDED, same version is already published

CHECK results for TENxBrainData on nebbiolo2


To the developers/maintainers of the TENxBrainData package:
- Use the following Renviron settings to reproduce errors and warnings.
- If 'R CMD check' started to fail recently on the Linux builder(s) over a missing dependency, add the missing dependency to 'Suggests:' in your DESCRIPTION file. See Renviron.bioc for more information.

raw results


Summary

Package: TENxBrainData
Version: 1.22.0
Command: /home/biocbuild/bbs-3.18-bioc/R/bin/R CMD check --install=check:TENxBrainData.install-out.txt --library=/home/biocbuild/bbs-3.18-bioc/R/site-library --timings TENxBrainData_1.22.0.tar.gz
StartedAt: 2024-02-29 12:13:04 -0500 (Thu, 29 Feb 2024)
EndedAt: 2024-02-29 12:18:20 -0500 (Thu, 29 Feb 2024)
EllapsedTime: 316.0 seconds
RetCode: 0
Status:   OK  
CheckDir: TENxBrainData.Rcheck
Warnings: 0

Command output

##############################################################################
##############################################################################
###
### Running command:
###
###   /home/biocbuild/bbs-3.18-bioc/R/bin/R CMD check --install=check:TENxBrainData.install-out.txt --library=/home/biocbuild/bbs-3.18-bioc/R/site-library --timings TENxBrainData_1.22.0.tar.gz
###
##############################################################################
##############################################################################


* using log directory ‘/home/biocbuild/bbs-3.18-data-experiment/meat/TENxBrainData.Rcheck’
* using R version 4.3.2 Patched (2023-11-13 r85521)
* using platform: x86_64-pc-linux-gnu (64-bit)
* R was compiled by
    gcc (Ubuntu 11.4.0-1ubuntu1~22.04) 11.4.0
    GNU Fortran (Ubuntu 11.4.0-1ubuntu1~22.04) 11.4.0
* running under: Ubuntu 22.04.3 LTS
* using session charset: UTF-8
* checking for file ‘TENxBrainData/DESCRIPTION’ ... OK
* this is package ‘TENxBrainData’ version ‘1.22.0’
* checking package namespace information ... OK
* checking package dependencies ... OK
* checking if this is a source package ... OK
* checking if there is a namespace ... OK
* checking for hidden files and directories ... OK
* checking for portable file names ... OK
* checking for sufficient/correct file permissions ... OK
* checking whether package ‘TENxBrainData’ can be installed ... OK
* checking installed package size ... OK
* checking package directory ... OK
* checking ‘build’ directory ... OK
* checking DESCRIPTION meta-information ... OK
* checking top-level files ... OK
* checking for left-over files ... OK
* checking index information ... OK
* checking package subdirectories ... OK
* checking R files for non-ASCII characters ... OK
* checking R files for syntax errors ... OK
* checking whether the package can be loaded ... OK
* checking whether the package can be loaded with stated dependencies ... OK
* checking whether the package can be unloaded cleanly ... OK
* checking whether the namespace can be loaded with stated dependencies ... OK
* checking whether the namespace can be unloaded cleanly ... OK
* checking loading without being on the library search path ... OK
* checking dependencies in R code ... OK
* checking S3 generic/method consistency ... OK
* checking replacement functions ... OK
* checking foreign function calls ... OK
* checking R code for possible problems ... OK
* checking Rd files ... OK
* checking Rd metadata ... OK
* checking Rd cross-references ... OK
* checking for missing documentation entries ... OK
* checking for code/documentation mismatches ... OK
* checking Rd \usage sections ... OK
* checking Rd contents ... OK
* checking for unstated dependencies in examples ... OK
* checking files in ‘vignettes’ ... OK
* checking examples ... OK
Examples with CPU (user + system) or elapsed time > 5s
                user system elapsed
TENxBrainData 21.125  2.213  29.318
* checking for unstated dependencies in vignettes ... OK
* checking package vignettes in ‘inst/doc’ ... OK
* checking running R code from vignettes ...
  ‘TENxBrainData.Rmd’... OK
 NONE
* checking re-building of vignette outputs ... OK
* checking PDF version of manual ... OK
* DONE

Status: OK


Installation output

TENxBrainData.Rcheck/00install.out

##############################################################################
##############################################################################
###
### Running command:
###
###   /home/biocbuild/bbs-3.18-bioc/R/bin/R CMD INSTALL TENxBrainData
###
##############################################################################
##############################################################################


* installing to library ‘/home/biocbuild/bbs-3.18-bioc/R/site-library’
* installing *source* package ‘TENxBrainData’ ...
** using staged installation
** R
** inst
** byte-compile and prepare package for lazy loading
** help
*** installing help indices
** building package indices
** installing vignettes
** testing if installed package can be loaded from temporary location
** testing if installed package can be loaded from final location
** testing if installed package keeps a record of temporary installation path
* DONE (TENxBrainData)

Tests output


Example timings

TENxBrainData.Rcheck/TENxBrainData-Ex.timings

nameusersystemelapsed
TENxBrainData21.125 2.21329.318