Back to Build/check report for BioC 3.18 experimental data
ABCDEFGHIJKLMNOPQRS[T]UVWXYZ

This page was generated on 2024-02-29 14:52:02 -0500 (Thu, 29 Feb 2024).

HostnameOSArch (*)R versionInstalled pkgs
nebbiolo2Linux (Ubuntu 22.04.3 LTS)x86_644.3.2 Patched (2023-11-13 r85521) -- "Eye Holes" 4692
Click on any hostname to see more info about the system (e.g. compilers)      (*) as reported by 'uname -p', except on Windows and Mac OS X

Package 400/429HostnameOS / ArchINSTALLBUILDCHECK
TENxBrainData 1.22.0  (landing page)
Bioconductor Package Maintainer
Snapshot Date: 2024-02-29 07:30:02 -0500 (Thu, 29 Feb 2024)
git_url: https://git.bioconductor.org/packages/TENxBrainData
git_branch: RELEASE_3_18
git_last_commit: 2b732db
git_last_commit_date: 2023-10-24 09:17:29 -0500 (Tue, 24 Oct 2023)
nebbiolo2Linux (Ubuntu 22.04.3 LTS) / x86_64  OK    OK    OK  UNNEEDED, same version is already published

BUILD results for TENxBrainData on nebbiolo2


To the developers/maintainers of the TENxBrainData package:
- Use the following Renviron settings to reproduce errors and warnings.
- If 'R CMD check' started to fail recently on the Linux builder(s) over a missing dependency, add the missing dependency to 'Suggests:' in your DESCRIPTION file. See Renviron.bioc for more information.

raw results


Summary

Package: TENxBrainData
Version: 1.22.0
Command: /home/biocbuild/bbs-3.18-bioc/R/bin/R CMD build --keep-empty-dirs --no-resave-data TENxBrainData
StartedAt: 2024-02-29 10:53:39 -0500 (Thu, 29 Feb 2024)
EndedAt: 2024-02-29 10:55:54 -0500 (Thu, 29 Feb 2024)
EllapsedTime: 135.2 seconds
RetCode: 0
Status:   OK  
PackageFile: TENxBrainData_1.22.0.tar.gz
PackageFileSize: 357.1 KiB

Command output

##############################################################################
##############################################################################
###
### Running command:
###
###   /home/biocbuild/bbs-3.18-bioc/R/bin/R CMD build --keep-empty-dirs --no-resave-data TENxBrainData
###
##############################################################################
##############################################################################


* checking for file ‘TENxBrainData/DESCRIPTION’ ... OK
* preparing ‘TENxBrainData’:
* checking DESCRIPTION meta-information ... OK
* installing the package to build vignettes
* creating vignettes ... OK
* checking for LF line-endings in source and make files and shell scripts
* checking for empty or unneeded directories
* building ‘TENxBrainData_1.22.0.tar.gz’