Name | Last modified | Size | Description | |
---|---|---|---|---|
Parent Directory | - | |||
checksrc-out.txt | 26-Jul-2024 03:51 | 3.3K | ||
install-out.txt | 26-Jul-2024 03:51 | 967 | ||
buildsrc-out.txt | 26-Jul-2024 03:51 | 889 | ||
checksrc-summary.dcf | 26-Jul-2024 03:51 | 433 | ||
buildsrc-summary.dcf | 26-Jul-2024 03:51 | 431 | ||
install-summary.dcf | 26-Jul-2024 03:51 | 268 | ||