Index of /checkResults/release/data-experiment-LATEST/TCGAbiolinksGUI.data/raw-results

[ICO]NameLast modifiedSizeDescription

[DIR]Parent Directory  -  
[   ]info.dcf02-Dec-2021 08:35 305  
[DIR]nebbiolo2/02-Dec-2021 08:35 -