Index of /checkResults/release/data-experiment-LATEST/TCGAWorkflowData/raw-results
Name
Last modified
Size
Description
Parent Directory
-
info.dcf
29-Mar-2024 03:52
297
nebbiolo2/
29-Mar-2024 03:52
-