Back to Build/check report for BioC 3.18 experimental data |
|
This page was generated on 2023-11-30 14:52:03 -0500 (Thu, 30 Nov 2023).
Hostname | OS | Arch (*) | R version | Installed pkgs |
---|---|---|---|---|
nebbiolo2 | Linux (Ubuntu 22.04.2 LTS) | x86_64 | 4.3.2 Patched (2023-11-13 r85521) -- "Eye Holes" | 4685 |
Click on any hostname to see more info about the system (e.g. compilers) (*) as reported by 'uname -p', except on Windows and Mac OS X |
To the developers/maintainers of the TCGAMethylation450k package: - Use the following Renviron settings to reproduce errors and warnings. - If 'R CMD check' started to fail recently on the Linux builder(s) over a missing dependency, add the missing dependency to 'Suggests:' in your DESCRIPTION file. See Renviron.bioc for more information. |
Package 398/429 | Hostname | OS / Arch | INSTALL | BUILD | CHECK | ||||||||
TCGAMethylation450k 1.38.0 (landing page) Sean Davis
| nebbiolo2 | Linux (Ubuntu 22.04.2 LTS) / x86_64 | OK | OK | OK | ![]() | |||||||