Back to Build/check report for BioC 3.13 experimental data
ABCDEFGHIJKLMNOPQR[S]TUVWXYZ

This page was generated on 2021-10-12 16:00:31 -0400 (Tue, 12 Oct 2021).

All results for package SingleCellMultiModal

To the developers/maintainers of the SingleCellMultiModal package:
Make sure to use the following settings in order to reproduce any error or warning you see on this page.

raw results

Package 353/406HostnameOS / ArchINSTALLBUILDCHECK
SingleCellMultiModal 1.4.1  (landing page)
Marcel Ramos
Snapshot Date: 2021-10-12 09:30:07 -0400 (Tue, 12 Oct 2021)
URL: https://git.bioconductor.org/packages/SingleCellMultiModal
Branch: RELEASE_3_13
Last Commit: 5879cb8
Last Changed Date: 2021-06-03 17:06:55 -0400 (Thu, 03 Jun 2021)
malbec2Linux (Ubuntu 20.04.2 LTS) / x86_64  OK    OK    OK  UNNEEDED, same version is already published