Index of /checkResults/release/data-experiment-LATEST/Single.mTEC.Transcriptomes/raw-results
Name
Last modified
Size
Description
Parent Directory
-
info.dcf
29-Mar-2023 03:50
320
nebbiolo2/
29-Mar-2023 03:50
-