Back to Build/check report for BioC 3.14 experimental data
ABCDEFGHIJKLMNOPQR[S]TUVWXYZ

This page was generated on 2022-01-19 14:50:25 -0500 (Wed, 19 Jan 2022).

HostnameOSArch (*)R versionInstalled pkgs
nebbiolo2Linux (Ubuntu 20.04.4 LTS)x86_644.1.2 (2021-11-01) -- "Bird Hippie" 4329
Click on any hostname to see more info about the system (e.g. compilers)      (*) as reported by 'uname -p', except on Windows and Mac OS X

BUILD results for Single.mTEC.Transcriptomes on nebbiolo2


To the developers/maintainers of the Single.mTEC.Transcriptomes package:
Make sure to use the following settings in order to reproduce any error or warning you see on this page.

raw results

Package 352/408HostnameOS / ArchINSTALLBUILDCHECK
Single.mTEC.Transcriptomes 1.22.0  (landing page)
Alejandro Reyes
Snapshot Date: 2022-01-19 07:30:01 -0500 (Wed, 19 Jan 2022)
git_url: https://git.bioconductor.org/packages/Single.mTEC.Transcriptomes
git_branch: RELEASE_3_14
git_last_commit: 06aecf3
git_last_commit_date: 2021-10-26 12:19:34 -0500 (Tue, 26 Oct 2021)
nebbiolo2Linux (Ubuntu 20.04.4 LTS) / x86_64  OK    OK    OK  UNNEEDED, same version is already published

Summary

Package: Single.mTEC.Transcriptomes
Version: 1.22.0
Command: /home/biocbuild/bbs-3.14-bioc/R/bin/R CMD build --keep-empty-dirs --no-resave-data Single.mTEC.Transcriptomes
StartedAt: 2022-01-19 10:44:01 -0500 (Wed, 19 Jan 2022)
EndedAt: 2022-01-19 11:14:49 -0500 (Wed, 19 Jan 2022)
EllapsedTime: 1847.3 seconds
RetCode: 0
Status:   OK  
PackageFile: Single.mTEC.Transcriptomes_1.22.0.tar.gz
PackageFileSize: 903.9 MiB

Command output

##############################################################################
##############################################################################
###
### Running command:
###
###   /home/biocbuild/bbs-3.14-bioc/R/bin/R CMD build --keep-empty-dirs --no-resave-data Single.mTEC.Transcriptomes
###
##############################################################################
##############################################################################


* checking for file ‘Single.mTEC.Transcriptomes/DESCRIPTION’ ... OK
* preparing ‘Single.mTEC.Transcriptomes’:
* checking DESCRIPTION meta-information ... OK
* installing the package to build vignettes
* creating vignettes ... OK
* checking for LF line-endings in source and make files and shell scripts
* checking for empty or unneeded directories
* looking to see if a ‘data/datalist’ file should be added
  NB: this package now depends on R (>= 3.5.0)
  WARNING: Added dependency on R >= 3.5.0 because serialized objects in
  serialize/load version 3 cannot be read in older versions of R.
  File(s) containing such objects:
    ‘Single.mTEC.Transcriptomes/data/coexpressionGroupList.RData’
* building ‘Single.mTEC.Transcriptomes_1.22.0.tar.gz’