Index of /checkResults/release/data-experiment-LATEST/SimBenchData/raw-results
Name
Last modified
Size
Description
Parent Directory
-
info.dcf
12-Jun-2024 03:51
282
nebbiolo1/
12-Jun-2024 03:51
-