Index of /checkResults/release/data-experiment-LATEST/SCLCBam/raw-results/nebbiolo2

[ICO]NameLast modifiedSizeDescription

[DIR]Parent Directory  -  
[TXT]buildsrc-out.txt17-Feb-2022 22:36 817  
[   ]buildsrc-summary.dcf17-Feb-2022 22:36 428  
[TXT]checksrc-out.txt17-Feb-2022 22:36 3.1K 
[   ]checksrc-summary.dcf17-Feb-2022 22:36 445  
[TXT]install-out.txt17-Feb-2022 22:36 969  
[   ]install-summary.dcf17-Feb-2022 22:36 269