Index of /checkResults/release/data-experiment-LATEST/SCLCBam/raw-results

[ICO]NameLast modifiedSizeDescription

[DIR]Parent Directory  -  
[   ]info.dcf05-Aug-2022 03:50 272  
[DIR]nebbiolo1/05-Aug-2022 03:50 -  
[DIR]nebbiolo2/17-Feb-2022 22:36 -