Index of /checkResults/release/data-experiment-LATEST/SCATEData/raw-results/nebbiolo2

[ICO]NameLast modifiedSizeDescription

[DIR]Parent Directory  -  
[TXT]install-out.txt17-Feb-2022 22:36 1.0K 
[   ]install-summary.dcf17-Feb-2022 22:36 273  
[TXT]buildsrc-out.txt17-Feb-2022 22:36 1.1K 
[   ]buildsrc-summary.dcf17-Feb-2022 22:36 432  
[TXT]checksrc-out.txt17-Feb-2022 22:36 3.3K 
[   ]checksrc-summary.dcf17-Feb-2022 22:36 452