Index of /checkResults/release/data-experiment-LATEST/SCATEData/raw-results/nebbiolo1

[ICO]NameLast modifiedSizeDescription

[DIR]Parent Directory  -  
[   ]install-summary.dcf12-Aug-2022 03:50 262  
[TXT]install-out.txt12-Aug-2022 03:50 1.0K 
[   ]checksrc-summary.dcf12-Aug-2022 03:50 430  
[TXT]checksrc-out.txt12-Aug-2022 03:50 3.3K 
[   ]buildsrc-summary.dcf12-Aug-2022 03:50 421  
[TXT]buildsrc-out.txt12-Aug-2022 03:50 1.1K