Index of /checkResults/release/data-experiment-LATEST/SCATEData/raw-results/nebbiolo1

[ICO]NameLast modifiedSizeDescription

[DIR]Parent Directory  -  
[TXT]buildsrc-out.txt01-Jul-2022 03:50 1.1K 
[   ]buildsrc-summary.dcf01-Jul-2022 03:50 421  
[TXT]checksrc-out.txt01-Jul-2022 03:50 3.3K 
[   ]checksrc-summary.dcf01-Jul-2022 03:50 430  
[TXT]install-out.txt01-Jul-2022 03:50 1.0K 
[   ]install-summary.dcf01-Jul-2022 03:50 262